BEGIN:VCALENDAR
VERSION:2.0
PRODID:Evento - TEC
BEGIN:VEVENT
UID:54571
DTSTAMP:20260422T150258Z
DTSTART:20190305T211158Z
DTEND:20190531T230000Z
SUMMARY:Muestra del Pabellón Nacional de la EAAD
LOCATION:Calle 4 Norte, Centro Histórico, CP 72000 Puebla, Puebla.
DESCRIPTION:<p>La muestra del <strong>Pabellón Nacional EAAD</strong> estará expuesta del <strong>3 de marzo al 31 de mayo en el Museo Tec,</strong> en horario de <strong>lunes a sábado de 10:00 a 19:00 horas y domingo de 10:00 a 18:00 horas,</strong> con entrada gratuita.</p>

END:VEVENT
END:VCALENDAR