BEGIN:VCALENDAR
VERSION:2.0
PRODID:Evento - TEC
BEGIN:VEVENT
UID:53966
DTSTAMP:20260422T150254Z
DTSTART:20190307T220000Z
DTEND:20190308T010000Z
SUMMARY:WOMAN TALKS
LOCATION:Auditorio de Parque Tec
DESCRIPTION:<p>Woman Talks es un espacio que celebra a la mujer. Speakers nos acompañarán para contarnos su historia y aprendizajes en su vida, tanto profesional como personal, nos compartirán cómo han superado los retos en su trayectoria y se han consolidado como líderes en diferentes áreas del quehacer humano.<br />
<br />
<br />
Elizabeth Nava,&nbsp;Entelequia.</p>

<p>Miriam Caballero García,&nbsp;CuidaMED.</p>

<p>Ana Bárbara Mungaray Moctezuma, PRONAFIM.</p>

<p>Mariana Díaz Jiménez, EmpoderaMIA.</p>

END:VEVENT
END:VCALENDAR