BEGIN:VCALENDAR
VERSION:2.0
PRODID:Evento - TEC
BEGIN:VEVENT
UID:53961
DTSTAMP:20260422T150253Z
DTSTART:20190228T153000Z
DTEND:20190228T200000Z
SUMMARY:EXPERIENCE ABROAD EXPO 2019
LOCATION:Centro de Convenciones
DESCRIPTION:<p>No te pierdas la oportunidad de:</p>

<p>1)&nbsp;&nbsp;&nbsp;&nbsp;&nbsp;&nbsp;<strong>Interactuar&nbsp;con 55 universidades extranjeras</strong></p>

<p>2)&nbsp;&nbsp;&nbsp;&nbsp;&nbsp;&nbsp;<strong>Asistir&nbsp;a las conferencias</strong></p>

<p>3)&nbsp;&nbsp;&nbsp;&nbsp;&nbsp;&nbsp;<strong>Llevarte un kit de bienvenida</strong></p>

<p>4)&nbsp;&nbsp;&nbsp;&nbsp;&nbsp;&nbsp;<strong>Aclarar tus dudas y empezar con tu proceso de internacionalización</strong></p>

<p><strong>&nbsp;</strong></p>

END:VEVENT
END:VCALENDAR