BEGIN:VCALENDAR
VERSION:2.0
PRODID:Evento - TEC
BEGIN:VEVENT
UID:53801
DTSTAMP:20260422T150256Z
DTSTART:20190305T230010Z
DTEND:20190310T010610Z
SUMMARY:Festival Nacional de Arte y Cultura 
LOCATION:
DESCRIPTION:<p dir="ltr">El<strong>&nbsp;</strong><strong>Festival Nacional de la Cultura y las Artes del Tecnológico de Monterrey,&nbsp;</strong>que expondrá el talento estudiantil en&nbsp;<strong>letras, música, baile,&nbsp;actuación y por primera ocasión, de cine, se llevará a cabo por primera vez fuera de sus campus,&nbsp;</strong>siendo&nbsp;<strong>Querétaro&nbsp;</strong>la&nbsp;<strong>sede&nbsp;</strong>de esta cuarta edición.</p>

<p><strong>El festival,&nbsp;</strong>que se celebrará<strong>&nbsp;del 5 al 9 de marzo,&nbsp;</strong>será&nbsp;<strong>abierto al público.&nbsp;</strong>Participarán&nbsp;<strong>750 alumnos y 200 colaboradores&nbsp;</strong>provenientes de los<strong>&nbsp;26 campus del Tec&nbsp;</strong>y se espera la&nbsp;<strong>asistencia de 10 mil personas&nbsp;</strong>durante los 5 días.</p>

END:VEVENT
END:VCALENDAR