BEGIN:VCALENDAR
VERSION:2.0
PRODID:Evento - TEC
BEGIN:VEVENT
UID:53696
DTSTAMP:20260422T203251Z
DTSTART:20190227T150000Z
DTEND:20190228T010000Z
SUMMARY:CONCURSO REGIONAL ANUAL DE INTEGRALES 2019
LOCATION:
DESCRIPTION:<p>1) &nbsp;&nbsp;&nbsp;&nbsp;&nbsp;&nbsp;&nbsp;&nbsp;Pueden participar alumnos inscritos del Tecnológico de Monterrey de de&nbsp;preparatoria o de profesional&nbsp;de cualquier campus de la Región Sur (Central de Veracruz, Cuernavaca, Chiapas, Hidalgo, Toluca y Puebla).</p>

<p>2) &nbsp;&nbsp;&nbsp;&nbsp;&nbsp;&nbsp;&nbsp;&nbsp;El concurso no tiene ningún costo.</p>

<p>3) &nbsp;&nbsp;&nbsp;&nbsp;&nbsp;&nbsp;&nbsp;&nbsp;Cada concursante recibirá una lista con 30 reactivos propuestos por el comité organizador.</p>

<p>4) &nbsp;&nbsp;&nbsp;&nbsp;&nbsp;&nbsp;&nbsp;&nbsp;Los reactivos incluirán integrales indefinidas, integrales definidas, integrales impropias y algunas aplicaciones de las integrales a problemas reales.</p>

<p>5) &nbsp;&nbsp;&nbsp;&nbsp;&nbsp;&nbsp;&nbsp;&nbsp;Los concursantes deberán asistir el día del concurso con credencial del Tec o identificación oficial, lápiz del número 2 o 2 ½, sacapuntas y borrador.</p>

<p>6) &nbsp;&nbsp;&nbsp;&nbsp;&nbsp;&nbsp;&nbsp;&nbsp;El concurso consiste en resolver correctamente, sin calculadora ni formulario, el mayor número de reactivos en 120 minutos.</p>

<p>.7) No existe guía de estudio ni ejemplos para los participantes.&nbsp;Cada estudiante deberá prepararse de manera individual.</p>

<p>8) &nbsp;&nbsp;&nbsp;&nbsp;&nbsp;&nbsp;&nbsp;&nbsp;Se otorgará constancia de participación a todos los participantes y reconocimiento a los ganadores de los tres primeros lugares.</p>

<p>9) &nbsp;&nbsp;&nbsp;&nbsp;&nbsp;&nbsp;&nbsp;&nbsp;Ganará el concurso quien obtenga el mayor número de respuestas correctas. El comité organizador usará su propio criterio para dictaminar lo conducente en caso de empates.</p>

<p>10) El concurso se llevará a cabo el&nbsp;miércoles 27 de febrero de 2018 a las 10:00&nbsp;horas&nbsp;&nbsp;en el salón A2-505 del campus Puebla (quinto piso de aulas 2). Se pide a los participantes presentarse al menos 20 minutos antes del inicio del concurso para asignar lugares. El concurso tiene duración de dos horas máximo.</p>

<p>11) Es responsabilidad de cada participante presentarse al concurso en el lugar y hora asignados.</p>

<p>12) De las 2:00 a 2:45 pm tendremos una conferencia con un especialista en Educación Matemática en el Auditorio de la biblioteca sur. Se pide la asistencia de participantes y acompañantes.</p>

<p>13) A las 3:00 pm se llevará a cabo la premiación de preparatoria y de profesional en el mismo auditorio.</p>

<p>&nbsp;</p>

<p>REGISTRO</p>

<p>El registro es a partir de la publicación de esta convocatoria y hasta el día del concurso inclusive.</p>

<p>Inscríbete en la siguiente liga:</p>

<p><a href="https://www.google.com/url?q=https://www.google.com/url?q%3Dhttps://goo.gl/forms/ldBTyXruYGNQAbSi1%26amp;sa%3DD%26amp;ust%3D1550599655163000&amp;sa=D&amp;ust=1550599655187000&amp;usg=AFQjCNGIaCGlq8NJALaCNsi3effmjHuwEQ">https://goo.gl/forms/ldBTyXruYGNQAbSi1</a>&nbsp;</p>

END:VEVENT
END:VCALENDAR