BEGIN:VCALENDAR
VERSION:2.0
PRODID:Evento - TEC
BEGIN:VEVENT
UID:53316
DTSTAMP:20260422T161740Z
DTSTART:20190214T160000Z
DTEND:20190214T173000Z
SUMMARY:The Water-Energy Nexus: A California Perspective
LOCATION:Sala de Arte de Biblioteca, Tecnológico de Monterrey, Campus Monterrey
DESCRIPTION:<p>Acompáñanos el próximo jueves 14 de febrero a partir de las 11:00 horas en la Galería de Arte de la Biblioteca del Campus Monterrey, a la conferencia: <em><strong>"The Water-Energy Nexus"</strong>,&nbsp;</em>en donde el profesor <strong>Frank J. Loge</strong> estará presentando algunos proyectos de investigación desarrollados por el grupo de eficiencia energética de la Universidad de California Davis, entre ellos:<br />
<br />
(1) La interrelación entre el agua, la energía y las emisiones de gases de efecto invernadero en los sistemas de agua potable y de aguas residuales.<br />
<br />
(2) Ahorro de energía a través de la conservación del agua.<br />
<br />
(3) Cambio de carga eléctrica en el sector del agua en respuesta a la energía renovable en la red eléctrica estatal.<br />
<br />
(4) Diseño, construcción y operación de casas residenciales unifamiliares, cero consumo energía-agua.</p>

END:VEVENT
END:VCALENDAR