BEGIN:VCALENDAR
VERSION:2.0
PRODID:Evento - TEC
BEGIN:VEVENT
UID:53276
DTSTAMP:20260419T165924Z
DTSTART:20190225T130000Z
DTEND:20190302T020000Z
SUMMARY:Participa en "Campus 5 de mayo"
LOCATION:
DESCRIPTION:<p><strong>“Campus 5 de mayo”</strong>&nbsp;es un concepto innovador en el que los ciudadanos podrán tener acceso a&nbsp;<strong>clases gratuitas</strong>&nbsp;en áreas como&nbsp;<strong>arquitectura, diseño y arte digital,</strong>&nbsp;basadas en el nuevo&nbsp;<strong>Modelo Tec21</strong>, mismas que serán impartidas por especialistas.</p>

<p><strong>38 materias</strong> divididas en <strong>63 sesiones</strong> y dirigidas de manera <strong>gratuita</strong> estarán al alcance de estudiantes y público en general del <strong>25 de febrero al 1 de marzo.</strong></p>

<p>Cupo está <strong>limitado de 30 a 40 personas</strong> por materia.</p>

<p>&nbsp;<a href="https://www.campus5demayo.mx/">https://www.campus5demayo.mx/</a></p>

END:VEVENT
END:VCALENDAR