BEGIN:VCALENDAR
VERSION:2.0
PRODID:Evento - TEC
BEGIN:VEVENT
UID:52876
DTSTAMP:20260419T165931Z
DTSTART:20190213T133000Z
DTEND:20190213T190000Z
SUMMARY:Foro Nexo Agua-Energía-Alimentos: Una visión integral para la sostenibilidad
LOCATION:Pabellón Carreta, Tecnológico de Monterrey, Campus Monterrey
DESCRIPTION:<p>En el Centro del Agua reconocemos que el agua, la energía y los alimentos están hiperconectados y que los impactos en un sector afectan directamente a los otros, una realidad clave que debe considerarse para lograr objetivos económicos, ambientales y sociales a largo plazo en cualquier región del mundo.</p>

<p><span><span><span>También puedes seguir&nbsp;la transmisión vía "streaming" del Foro Nexo Agua-Energía-Alimentos: Una visión integral para la sostenibilidad&nbsp;&nbsp;</span></span></span></p>

<oembed>https://livestream.com/TecDeMonterrey/NexoAEA</oembed>

<p>&nbsp;</p>

END:VEVENT
END:VCALENDAR