BEGIN:VCALENDAR
VERSION:2.0
PRODID:Evento - TEC
BEGIN:VEVENT
UID:52056
DTSTAMP:20260419T165927Z
DTSTART:20190117T222236Z
DTEND:20190301T000000Z
SUMMARY:Bienal Iberoamericana de Diseño
LOCATION:Calle 4 Nte, Centro, CP 72000 Puebla, Pue.
DESCRIPTION:<p>La Bienal Iberoamericana de Diseño es la primera exposición producida desde que el Museo Tec forma parte de la Escuela de Arquitectura, Arte y Diseño y representa un punto de partida para la reflexión sobre el rol y futuro de las industrias creativas mexicanas, un tema que se desarrollará fuertemente con el museo en los próximos meses.</p>

END:VEVENT
END:VCALENDAR