BEGIN:VCALENDAR
VERSION:2.0
PRODID:Evento - TEC
BEGIN:VEVENT
UID:52046
DTSTAMP:20260419T165930Z
DTSTART:20190117T220157Z
DTEND:20190215T220157Z
SUMMARY:Actividades del Museo Tecnológico de Monterrey
LOCATION:Calle 4 Nte, Centro, CP 72000 Puebla, Puebla.
DESCRIPTION:<p>Asiste a las actividades y diversas exposiciones que el Museo del Tecnológico de Monterrey tiene para ti, en&nbsp;Calle 4 Nte, Centro, Puebla, Puebla.</p>

END:VEVENT
END:VCALENDAR