BEGIN:VCALENDAR
VERSION:2.0
PRODID:Evento - TEC
BEGIN:VEVENT
UID:50071
DTSTAMP:20260419T165924Z
DTSTART:20190112T140000Z
DTEND:20190112T193000Z
SUMMARY:Prueba de Aptitud Académica 12 de enero de 2019
LOCATION:
DESCRIPTION:<p>Si conoces a alguien en edad de ingresar a&nbsp;preparatoria o profesional invítalo para realizar su Prueba de Aptitud Académica el próximo 12 de enero.</p>

<p>Para PrepaTec contactar a Karina Ayuso en el correo karina.ayuso@tec.mx o al teléfono 303 2247</p>

<p>Para profesional a Juan Arturo Rubio en el correo jrubioariz@tec.mx o al teléfono 303 3117</p>

END:VEVENT
END:VCALENDAR