BEGIN:VCALENDAR
VERSION:2.0
PRODID:Evento - TEC
BEGIN:VEVENT
UID:49656
DTSTAMP:20260419T165931Z
DTSTART:20181128T223000Z
DTEND:20181129T023000Z
SUMMARY:Conferencia "A Dios rogando y con los guantes dando"
LOCATION:Tecnológico de Monterrey Campus Puebla

5718 Vía Atlixcáyotl

Heroica Puebla de Zaragoza, Pue 72453
DESCRIPTION:<p>PrepaTec Campus Puebla, te invita a la conferencia del ex-boxeador Ricardo "Finito" López:</p>

<p>"A Dios rogando y con los guantes dando".</p>

<p>Un atleta y campeón mundial&nbsp;como "El Finito" López nos muestra como la disciplina, entrega, pasión y determinación nos lleva a manejar cada round de nuestra vida&nbsp;con las actitudes correctas, para vencer a nuestro oponente y aprender a levantarnos al estar en la lona.</p>

<p>¡Te esperamos, no faltes!</p>

END:VEVENT
END:VCALENDAR