BEGIN:VCALENDAR
VERSION:2.0
PRODID:Evento - TEC
BEGIN:VEVENT
UID:48791
DTSTAMP:20260419T223719Z
DTSTART:20181124T140000Z
DTEND:20181124T190000Z
SUMMARY:Prueba de Aptitud Académica
LOCATION:Tecnológico de Monterrey campus Puebla
DESCRIPTION:<p>Si conoces a alguien en edad de entrar a preparatoria o profesional, invítalo a la Prueba de Aptitud Académica&nbsp;el&nbsp;sábado&nbsp;24 de noviembre.</p>

<p>Informes en el 01 222 303 2000</p>

<p>Vía mail:</p>

<p>PrepaTec karina.ayuso@tec.mx</p>

<p>&nbsp;Profesional jrubioariz@tec.mx</p>

END:VEVENT
END:VCALENDAR