BEGIN:VCALENDAR
VERSION:2.0
PRODID:Evento - TEC
BEGIN:VEVENT
UID:48391
DTSTAMP:20260419T223725Z
DTSTART:20181129T223000Z
DTEND:20181129T233000Z
SUMMARY:Para leer la ciencia
LOCATION:
DESCRIPTION:<p>Organizado por Pasión por la Lectura</p>

END:VEVENT
END:VCALENDAR