BEGIN:VCALENDAR
VERSION:2.0
PRODID:Evento - TEC
BEGIN:VEVENT
UID:48386
DTSTAMP:20260419T165921Z
DTSTART:20181113T180000Z
DTEND:20181113T203000Z
SUMMARY:3er Evento de Integración de Posgrado
LOCATION:Auditorio, Centro de Biotecnología FEMSA
DESCRIPTION:<p>3er Evento de Integración de Posgrado</p>

END:VEVENT
END:VCALENDAR