BEGIN:VCALENDAR
VERSION:2.0
PRODID:Evento - TEC
BEGIN:VEVENT
UID:48266
DTSTAMP:20260420T193848Z
DTSTART:20181109T210000Z
DTEND:20181109T223000Z
SUMMARY:Conversatorio Solo para Incorruptibles
LOCATION:Learning Commons, Aulas 4, tercer piso
DESCRIPTION:<p>Celebraremos el Día de la Integridad a través&nbsp;de&nbsp;un conversatorio para analizar la implementación del Sistema Nacional Anticorrupción, desde el ámbito local.</p>

END:VEVENT
END:VCALENDAR