BEGIN:VCALENDAR
VERSION:2.0
PRODID:Evento - TEC
BEGIN:VEVENT
UID:46761
DTSTAMP:20260421T091831Z
DTSTART:20181004T095000Z
DTEND:20181104T153000Z
SUMMARY:Carrera Borregos 2018 5 y 10 K
LOCATION:
DESCRIPTION:<p>Participa este&nbsp;<strong>4 de noviembre</strong>&nbsp;en la <strong>Carrera Borregos 2018, 5 y 10 K</strong> con salida a las&nbsp;<strong>7:00 de la mañana</strong>&nbsp;desde el <strong>Tec de Monterrey en Puebla</strong>. Inscribete en <strong>TEC Store</strong> o siguiendo estos pasos:</p>

<p>&nbsp;</p>

<p>1.&nbsp;<strong>Realiza tu donativo</strong>&nbsp;de <strong>$350.00 MXN en donar.tec.mx.</strong></p>

<p>Selecciona Causa:&nbsp;<strong><em>Líderes del Mañana</em></strong></p>

<p>selecciona Campus:&nbsp;<strong><em>Puebla.</em></strong></p>

<p>selecciona Grupo:&nbsp;<strong><em>Carrera Borregos Puebla 2018</em></strong><br />
<br />
2.&nbsp;<strong>Registro para 5K y 10K</strong>&nbsp;en:&nbsp;<a href="https://bit.ly/CarreraBorregos">http://bit.ly/CarreraBorregos</a>&nbsp;o a través de <strong>TECstore.&nbsp;</strong><br />
Para&nbsp;<strong>categoría infantil (400 m)</strong>:&nbsp;<a href="https://bit.ly/CBorregoInfantil">https://bit.ly/CBorregoInfantil</a><br />
<br />
3. Recibirás un&nbsp;<strong>correo de confirmación</strong>&nbsp;de inscripción en un lapso no mayor a 48 horas hábiles.</p>

<p>&nbsp;</p>

<p>4. Recoge tu&nbsp;<strong>kit de corredor el 3 de noviembre</strong>&nbsp;en el <strong>lobby de “Centro Estudiantil”</strong></p>

<p>&nbsp;</p>

<p>¡Corriendo, apoyas a la transformación de México a través de la educación!</p>

<p>&nbsp;</p>

<p>Para mayor información, puedes escribirnos a<a href="mailto:carreraborregos2018.pue@servicios.itesm.mx">carreraborregos2018.pue@servicios.itesm.mx</a></p>

<p><strong><em>Carrera abierta al público en general</em></strong></p>

END:VEVENT
END:VCALENDAR