BEGIN:VCALENDAR
VERSION:2.0
PRODID:Evento - TEC
BEGIN:VEVENT
UID:46626
DTSTAMP:20260419T102951Z
DTSTART:20181010T140000Z
DTEND:20190202T190000Z
SUMMARY:Apertura de Temporada Expositiva otoño-invierno Museo del Tecnológico de Monterrey
LOCATION:
DESCRIPTION:<p>Exponen:</p>

<div><span><span><span><span><span><span><span><span><span><span><span><span><span><span><span><span><span><strong><em>Alejandro Teutli</em></strong></span></span></span></span></span></span></span></span></span></span></span></span></span></span></span></span></span></div>

<div><span><span><span><span><span><span><span><span><span><span><span><span><span><span><span><span><span><strong><em>Inhabitual</em></strong></span></span></span></span></span></span></span></span></span></span></span></span></span></span></span></span></span></div>

<div><span><span><span><span><span><span><span><span><span><span><span><span><span><span><span><span><span>Exposición individual del artista poblano Alejandro Teutli. Más de 20 obras, entre dibujos y pinturas integran esta muestra donde el artista busca plasmar una serie de posibilidades para explorar una realidad poco común.</span></span></span></span></span></span></span></span></span></span></span></span></span></span></span></span></span></div>

<div>&nbsp;</div>

<div><span><span><span><span><span><span><span><span><span><span><span><span><span><span><span><span><span><strong><em>Manuel De Cisneros</em></strong></span></span></span></span></span></span></span></span></span></span></span></span></span></span></span></span></span></div>

<div><span><span><span><span><span><span><span><span><span><span><span><span><span><span><span><span><span><strong><em>Desarraigo</em></strong></span></span></span></span></span></span></span></span></span></span></span></span></span></span></span></span></span></div>

<div><span><span><span><span><span><span><span><span><span><span><span><span><span><span><span><span><span>Exposición individual del artista oaxaqueño Manuel de Cisneros. 25 pinturas divididas en dos secciones: paisajes y ser humano. De Cisneros rompe con la típica temática del arte oaxaqueño para explorar temas más solemnes, como la condición humana.</span></span></span></span></span></span></span></span></span></span></span></span></span></span></span></span></span></div>

END:VEVENT
END:VCALENDAR