BEGIN:VCALENDAR
VERSION:2.0
PRODID:Evento - TEC
BEGIN:VEVENT
UID:153181
DTSTAMP:20260419T165922Z
DTSTART:20241120T130000Z
DTEND:20241121T220000Z
SUMMARY:Foro Internacional de Primera Infancia 
LOCATION:Pabellón La Carreta, campus Monterrey
DESCRIPTION:<p><span>Foro Internacional de Primera Infancia - El impacto en la adversidad en los primeros años de vida: Cómo transformar el futuro de la niñez</span></p>

<p><span>Durante dos días, <strong>expertos regionales e internacionales </strong>provenientes del ámbito académico, organismos internacionales, gobiernos y ONGs se reunirán para abordar este <strong>desafío desde una perspectiva integral.</strong> </span></p>

<p><span>Se presentará un panorama de estas experiencias en América Latina y se trabajará con foco en guiar la implementación de políticas y acciones que promuevan un futuro más equitativo, saludable y productivo, <strong>para la niñez y para toda la sociedad.&nbsp;</strong></span></p>

END:VEVENT
END:VCALENDAR