BEGIN:VCALENDAR
VERSION:2.0
PRODID:Evento - TEC
BEGIN:VEVENT
UID:151221
DTSTAMP:20260421T025642Z
DTSTART:20240928T160000Z
DTEND:20241007T010000Z
SUMMARY:Feria Internacional del Libro de Monterrey 2024
LOCATION:CINTERMEX. Parque Fundidora. Av Fundidora 501, Obrera, 64010 Monterrey, N.L
DESCRIPTION:<p>La <strong>Feria del Libro de Monterrey </strong>es el proyecto cultural más importante del norte de México: hogar de escritoras y escritores, de artistas y grandes líderes, pero también un norte que existe más allá de sus fronteras geográficas.</p>

<p>Un norte que es referente, punto de encuentro, espacio para el descubrimiento y detonador de la curiosidad: un destino donde la cultura crece y prospera.</p>

<p>Durante 9 días (del 28 de septiembre al 06 de octubre) las letras llegarán al norte con un programa cultural para todos los públicos.</p>

<p>Ayuda al “Pabellón de la Niñez” de la Feria Internacional del Libro Monterrey para que más de 80 mil niñas y niños en vulnerabilidad educativa y social participen en talleres, foros y espectáculos que fomenten y apuntalen el desarrollo del gusto por la lectura.</p>

<p><strong>Realiza&nbsp;<a href="https://crowdfunding.tec.mx/s/detalleproyecto?IdProyecto=a3gUG0000005LNBYA2">AQUÍ</a>&nbsp;tu donativo.</strong></p>

<p>Conoce más de la edición de la<strong> Feria Internacional del Libro 2023</strong>&nbsp;<em><strong><a href="https://www.feriadellibromonterrey.mx/">AQUÍ</a></strong></em></p>

<p>&nbsp;</p>

<p>&nbsp;</p>

END:VEVENT
END:VCALENDAR