BEGIN:VCALENDAR
VERSION:2.0
PRODID:Evento - TEC
BEGIN:VEVENT
UID:149421
DTSTAMP:20260419T085411Z
DTSTART:20240515T143000Z
DTEND:20240519T010000Z
SUMMARY:VibrArt Arts & Culture Festival 2024
LOCATION:CIudad de Puebla
DESCRIPTION:<h3>¡Llega el Festival de Arte y Cultura: VibrArt 2024!</h3>

<p>Del 15 al 18 de mayo vive el festival artístico y cultural más importante del Tec de MonterreY:<strong>&nbsp;Festival Vibrart 2024.&nbsp;</strong></p>

<p>Disfruta de la participación de más de mil estudiantes de todos los campus del país, compitiendo en diferentes disciplinas escénicas.&nbsp;</p>

<p><strong>La sede será la ciudad de Puebla.</strong><br />
<br />
Conoce más del evento&nbsp;<a href="https://www.instagram.com/vibrartfestival/">aquí</a>&nbsp;y sigue la transmisión por&nbsp;<a href="https://live.tec.mx/vibrart">LIVE.TEC.MX</a></p>

<h4>¡No te lo pierdas!&nbsp;</h4>

END:VEVENT
END:VCALENDAR