BEGIN:VCALENDAR
VERSION:2.0
PRODID:Evento - TEC
BEGIN:VEVENT
UID:149176
DTSTAMP:20260421T091846Z
DTSTART:20240506T160000Z
DTEND:20240508T230000Z
SUMMARY:Foro Nacional Actúa (Evento híbrido)
LOCATION:Arena Borregos
DESCRIPTION:<p>La Federación de Estudiantes del Tecnológico de Monterrey (FETEC) te invita al <strong>Foro Nacional Actúa</strong> para compartir perspectivas y promover el diálogo en nuestra comunidad.</p>

<p>En esta edición, contaremos con la participación de las <strong>candidaturas a la presidencia de la República</strong> para abordar temas de interés de las juventudes, evaluar las propuestas políticas, e impulsar la transparencia y la responsabilidad ciudadana.</p>

<p><span><span><span>Los <strong><span>foros para las candidaturas presidenciales</span></strong> serán del&nbsp;<strong><span>6 y 8 de mayo</span></strong> y se transmitirán a través de <a href="https://nam04.safelinks.protection.outlook.com/?url=http%3A%2F%2Furl4240.envios.tec.mx%2Fls%2Fclick%3Fupn%3Du001.o3LmTC1D7wjR0xm221yZ5JEF30hG5SLoCVFtYRlSf28D84IhzOrQs0-2Bu-2FfSpyMfpzDNZ_4ScHPKczqpPgwT-2BqpdEHeo0TOVtkB-2BMZWuFX1Axem6b-2F-2Fj3EWVK9If5lExSVOvy7D2pw9UpHewxtvTDLOwoNQLvYuNXJ5ZQCLWmjWWS3LuVJQKK5DQVil-2F4-2BMaIeAYtkgKMCj-2BGTIe4HbJF-2BT-2FEHqQqXXTadSwTH0YGSQ8-2F1w6O-2Bw6b43DQlibDDB5wRy33JeUdDV-2Fzlg16-2FUkxgXOvGy1xTL16yWZe-2BBCcPpx1lfULuxzJsS4qekO9o0mVDCHHWGJYY7OzJQefd-2F5F3sbI40xJiFTeYyIk7xWFH3ML330LUA6VLpl4IqRgt-2Fi8fi0VSwhBpH0Cy7fbCSBRfOFdwqhiJ1t4nBvBhtJav0lWsdu8hhedhDw4RXL2LFF1se4KPPFWHlcJAMYyV5nCjePdQCczP-2BeMw4sCBPcd1DyUO5wjXr8-2BbFgSkB8UX6mgwOtpnxebARm6mFNSnzPMd2JJ4wQJDb6h7juNUVRwv3wXA1nmOV-2FN2EqynI0XH0XFUhv0oSrjvw3hK1x-2FKHz960n00-2BPY4-2Bm40KQL7V-2Bh16t9961pQIXtlOoCzD-2BT5chfXWM288WLrTcP5sbWYn5gemlsh-2Fmz2kREH7igGd4kaB5nbXVumMHrF-2Fwps7PCxCNEAnkYC-2BSrAqB0BZmWzc7qFwafTHneoQ2del1jilnjUX5aNw4wfbTv-2BHz7kgg5iG-2FaZNUCJbpl5Ai71x6bLCidKqTbAwGPfo0z879HlSdTRe04zXk3iGaknjfsjqP-2FNZR8ZnmSJTZKAyDBBts-2BeyefdFjKmklVR3mQVlogOuy0u86Az-2Bxd6FMjEBRnwVEYEmZK1LMCQg4zruSlfvw0JaL5F3perrJwSpn4xwdNcBD-2Bz1-2F-2BkjlIXTypU571g-2BR5GvsqnZdzmwMjWpwKaC-2F3NHB7WBOR0a7nqAt5b0r20B5jQ7kyHagyz4ZGrbTjsZN7sCpID7m-2BSYWmMfCBTFjzRyRb-2Bv4WiLVQ3TTYMO-2Fs5W7tV73-2B3el-2BxebZCvPEUD6rRB4eDp6DPiHtTcPBO3lzazC5IWsVAAl1T0kII9cm3fYrg7P4fKqJ3t8dJ8FaTcf-2BtjXES6bDH&amp;data=05%7C02%7Clongino.torres%40tec.mx%7Ccc4c0d6c757945fe663a08dc6af0e15a%7Cc65a3ea60f7c400b89345a6dc1705645%7C0%7C0%7C638502830007385861%7CUnknown%7CTWFpbGZsb3d8eyJWIjoiMC4wLjAwMDAiLCJQIjoiV2luMzIiLCJBTiI6Ik1haWwiLCJXVCI6Mn0%3D%7C0%7C%7C%7C&amp;sdata=ogPX0SicCtOd665JoCaFVI8HA1aKlJqyfM6G4dpIros%3D&amp;reserved=0"><strong><span><span><span><span>https://live.tec.mx/actua</span></span></span></span></strong></a></span></span></span><strong><span><span><span>,</span></span></span></strong><span><span><span> desde la <strong><span>Arena Borregos del campus Monterrey,</span></strong> espacio en el que privilegiamos la participación presencial de nuestras y nuestros estudiantes.<br />
<br />
El encuentro nos brinda la oportunidad de escuchar a las y el candidato a la presidencia de México, quienes compartirán sus visiones y proyectos.</span></span></span></p>

<p><span><span><span>Esto representa un acercamiento para que las y los <strong>estudiantes, profesores y colaboradores</strong> del <strong>Tecnológico de Monterrey</strong> se involucren en el diálogo sobre los retos que enfrenta nuestro país de cara a las elecciones más grandes de nuestra historia.</span></span></span><br />
<br />
&nbsp;</p>

<h3><strong>- Jorge Álvarez Máynez</strong></h3>

<p>Lunes 6 de mayo, <a href="https://live.tec.mx/actua/season:1/events/foro-nacional-actua-candidato-jorge-a-maynez">11:00 horas (CST)</a></p>

<div data-oembed-url="https://live.tec.mx/events/foro-nacional-actua-candidato-jorge-a-maynez">
<div class="iframely-embed">
<div class="iframely-responsive" style="height:140px; padding-bottom:0"><a data-iframely-url="//cdn.iframe.ly/api/iframe?url=https%3A%2F%2Flive.tec.mx%2Fevents%2Fforo-nacional-actua-candidato-jorge-a-maynez&amp;key=2115874014725aecd6576cf70e806db0" href="https://live.tec.mx/events/foro-nacional-actua-candidato-jorge-a-maynez">https://live.tec.mx/events/foro-nacional-actua-candidato-jorge-a-maynez</a></div>
</div>
<script async="" charset="utf-8" src="//cdn.iframe.ly/embed.js"></script>
</div>

<h3><strong>- Xóchitl Gálvez</strong></h3>

<p>Miércoles 8 de mayo, <a href="https://live.tec.mx/actua/season:1/events/foro-nacional-actua-candidata-xochitl-galvez">16:00 horas (CST)</a></p>

<p>&nbsp;</p>

<h3><strong>- Claudia Sheinbaum</strong></h3>

<p><a href="https://live.tec.mx/actua/season:1/events/foro-nacional-actua-candidata-claudia-sheinbaum">Por confirmar</a> participación</p>

<p>&nbsp;</p>

<p>&nbsp;</p>

END:VEVENT
END:VCALENDAR