BEGIN:VCALENDAR
VERSION:2.0
PRODID:Evento - TEC
BEGIN:VEVENT
UID:148756
DTSTAMP:20260419T102946Z
DTSTART:20240508T143000Z
DTEND:20240510T020054Z
SUMMARY:Congreso Internacional de Investigación sobre Obesidad 2024
LOCATION:Pabellón La Carreta, campus Monterrey
DESCRIPTION:<p><strong>Obesidad y su impacto en las diferentes etapas de la vida: una visión multidisciplinaria</strong><br />
Desde años anteriores el mundo se ha enfrentado a un problema global que ha afectado a miles de personas, comunidades y familias en todos los niveles socioeconómicos: la <strong>obesidad</strong>.</p>

<p>Esto ha llevado a graves <strong>problemas de salud, sociales y económicos</strong>. Por esta razón,&nbsp;el <strong>Tecnológico de Monterrey </strong>está comprometido en utilizar la ciencia aplicada para encontrar soluciones innovadoras que aborden este problema que afecta a nuestro país.</p>

<p>Te invitamos a asistir a nuestro<strong> congreso anual,</strong> donde podrás conocer las propuestas de investigación presentadas por expertos en la materia.</p>

<p>Acompáñanos y contribuye a buscar soluciones efectivas para esta problemática.</p>

<p>Lugar: Pabellón La Carreta, campus Monterrey<br />
<br />
<strong>Evento híbrido y sin costo</strong></p>

<h4>¡No te la pierdas! Regístrate&nbsp;<a href="https://iorconference.tec.mx/">aquí</a>.</h4>

END:VEVENT
END:VCALENDAR