BEGIN:VCALENDAR
VERSION:2.0
PRODID:Evento - TEC
BEGIN:VEVENT
UID:148751
DTSTAMP:20260419T092528Z
DTSTART:20240401T140000Z
DTEND:20240616T045959Z
SUMMARY:Convocatoria IFE Conference 2025
LOCATION:
DESCRIPTION:<p>El aprendizaje a lo largo de la vida es una oportunidad constante para actualizar habilidades y adquirir nuevos conocimientos. ¿Te apasiona este tema? ¡Sé ponente en el<strong>&nbsp;IFE Conference 2025!​</strong></p>

<p>Desde 2014, el<strong> Congreso Internacional de Innovación Educativa (</strong>CIIE) ahora<strong> IFE Conference</strong>, se ha convertido en el congreso de innovación educativa más destacado entre los países de habla hispana.</p>

<p>En los últimos nueve congresos se ha llegado a más de <strong>27 mil asistentes </strong>de <strong>3 mil instituciones</strong> y más de <strong>40 países.</strong></p>

<p>Las visualizaciones de las conferencias magistrales en línea han superado los 3 millones.</p>

<p>El Congreso reúne a diferentes actores clave en el ámbito de la educación y apoya en el posicionamiento del Tecnológico de Monterrey como referente en innovación educativa.</p>

<p>Conoce los detalles en&nbsp;<a dir="ltr" href="https://t.co/SBgrDgyxAZ">http://ciie.mx</a>.​<br />
<br />
Fecha límite: 15 de junio de 2024.</p>

END:VEVENT
END:VCALENDAR