BEGIN:VCALENDAR
VERSION:2.0
PRODID:Evento - TEC
BEGIN:VEVENT
UID:147486
DTSTAMP:20260419T092533Z
DTSTART:20240228T170000Z
DTEND:20240228T183000Z
SUMMARY:Premio a la Investigación e Innovación Rómulo Garza 2023
LOCATION:Centro de Congresos, campus Monterrey
DESCRIPTION:<p>El <strong>Premio Rómulo Garza </strong>se instituyó hace 49 años en memoria del empresario don Rómulo Garza, quien en vida fue un importante impulsor de la investigación.</p>

<p>Tiene como objetivo reconocer a las personas, así como a los <strong>resultados de la investigación</strong> desarrollada por los <strong>profesores y alumnos </strong>investigadores del <a href="https://tec.mx/es">Tecnológico de Monterrey.</a></p>

<p>Este reconocimiento se compone del<strong> Premio Insignia</strong> como la distinción principal otorgada por el Tecnológico de Monterrey y Xignux, y de cinco reconocimientos: Artículos más citados, Reconocimiento por desarrollo de investigación de alto impacto que conduce a emprendimiento y Proyectos de investigación de <strong>alumnos de PrepaTec, Profesional y Posgrado.</strong><br />
<br />
Transmisión por <a href="https://live.tec.mx/browse">Live Tec</a>.</p>

END:VEVENT
END:VCALENDAR