BEGIN:VCALENDAR
VERSION:2.0
PRODID:Evento - TEC
BEGIN:VEVENT
UID:147481
DTSTAMP:20260419T092523Z
DTSTART:20240228T140000Z
DTEND:20240229T030000Z
SUMMARY:Tec Science Summit 2024 (Evento híbrido)
LOCATION:Centro de Congresos, campus Monterrey
DESCRIPTION:<h3>Un día para compartir y hablar de ciencia</h3>

<p>A través de una ciencia viva, en acción, queremos resolver los grandes problemas de la humanidad.</p>

<p><strong>Conoce más de este evento y regístrate&nbsp;<a href="https://eventos.tec.mx/s/lt-event?language=es_MX&amp;id=a5u8X0000010v38">AQUÍ</a></strong></p>

END:VEVENT
END:VCALENDAR