BEGIN:VCALENDAR
VERSION:2.0
PRODID:Evento - TEC
BEGIN:VEVENT
UID:146936
DTSTAMP:20260421T025551Z
DTSTART:20240130T210000Z
DTEND:20240130T220000Z
SUMMARY:Webinar: Teoría de la Carga Cognitiva ¿Cómo potenciar el aprendizaje de los estudiantes?
LOCATION:En línea
DESCRIPTION:<p>En este webinar conocerás como diseñar contenidos, actividades y presentaciones multimedia, sin generar distracciones innecesarias que dificulten el aprendizaje de los estudiantes considerando los aportes de la <strong>Teoría de la Carga Cognitiva.</strong></p>

<p>&nbsp;</p>

<ul>
	<li><strong>Evento gratuito</strong>&nbsp;– Para ver la transmisión en vivo de manera gratuita dale clic al botón «<strong><a href="https://www.facebook.com/events/386105520765345/">Apúntate gratis aquí</a>»</strong>&nbsp;, y posteriormente dale clic a&nbsp;<strong>«asistir»</strong>&nbsp;en el evento de Facebook para estar al pendiente de las notificaciones.&nbsp;<strong>No hace falta otro registro ni rellenar un formulario o enviar un correo electrónico.</strong></li>
	<li><strong>Transmisión en vivo</strong>&nbsp;en el sitio del Observatorio,&nbsp;Facebook, YouTube&nbsp;y LinkedIn del Observatorio del Instituto para el Futuro de la Educación del Tec de Monterrey.</li>
	<li><strong>Exponente:</strong>&nbsp;Mariela Cuda</li>
	<li><strong>Host del Observatorio IFE:</strong>&nbsp;Rubí Román</li>
</ul>

<p>&nbsp;</p>

END:VEVENT
END:VCALENDAR