BEGIN:VCALENDAR
VERSION:2.0
PRODID:Evento - TEC
BEGIN:VEVENT
UID:146576
DTSTAMP:20260421T202747Z
DTSTART:20240123T130000Z
DTEND:20240125T210000Z
SUMMARY:IFE Conference 2024 (evento híbrido)
LOCATION:Tec de Monterrey campus Monterrey
DESCRIPTION:<p>El <strong>IFE Conference</strong>, antes conocido como el Congreso Internacional de Innovación Educativa (CIIE), es un espacio que te permitirá ser parte de las <strong>tendencias </strong>y <strong>prácticas </strong>que están <strong>revolucionando el mundo de la educación.</strong></p>

<p>Al ver hacia el futuro sabemos que la educación debe evolucionar para satisfacer las necesidades de nuestras economías y sociedades, con esto en mente, CIIE evoluciona para llegar a nuevos horizontes.</p>

<p>IFE Conference, creado por el<strong> Institute for the Future of Education</strong> del Tec de Monterrey, y que lleva como nombre las siglas de este, seguirá con la trayectoria del CIIE, proporcionado cada año un evento internacional de innovación educativa para seguir impulsando el futuro de la educación.</p>

<p>&nbsp;</p>

<h4>¡No te la pierdas! Evento híbrido. Regístrate&nbsp;<a href="https://ciie.itesm.mx/es/registro2023/?__hstc=115681945.3bcfb7295c3b3a8fce1ed81922344839.1705443540157.1705443540157.1705443540157.1&amp;__hssc=115681945.2.1705443540158&amp;__hsfp=680438785">aquí</a>.</h4>

<p>&nbsp;</p>

<p>Conoce más información del evento&nbsp;<a href="https://ciie.itesm.mx/es/">aquí</a>.</p>

END:VEVENT
END:VCALENDAR