BEGIN:VCALENDAR
VERSION:2.0
PRODID:Evento - TEC
BEGIN:VEVENT
UID:145256
DTSTAMP:20260419T103001Z
DTSTART:20231114T150000Z
DTEND:20231117T000000Z
SUMMARY:Festival incMTY
LOCATION:Cintermex, Monterrey, Nuevo León, México
DESCRIPTION:<p><strong>Si estás emprendiendo, tienes una startup o scaleup y buscas asegurar tu crecimiento, ¡el Festival incMTY es para ti! </strong></p>

<p><strong>Vive&nbsp;3 días del contenido inspirador que ya conoces, además de un tradeshow en el que experimentarás lo último en tecnología, innovación y networking.</strong></p>

<p><strong>Te esperamos del 14 al 16 de noviembre en Cintermex, Nuevo León, México.</strong></p>

<p><strong>Conoce la convocatoria completa y compra tus boletos&nbsp;<a href="https://www.incmty.com/festival">aquí</a></strong></p>

END:VEVENT
END:VCALENDAR