BEGIN:VCALENDAR
VERSION:2.0
PRODID:Evento - TEC
BEGIN:VEVENT
UID:144741
DTSTAMP:20260421T202746Z
DTSTART:20231206T230000Z
DTEND:20231207T003000Z
SUMMARY:Curso virtual "¿Qué es la nube de AWS?"
LOCATION:
DESCRIPTION:<p>El Centro de Evolución Digital de la <strong>Escuela de Negocios</strong> del <a href="https://tec.mx/es">Tec de Monterrey</a>, 10,000 Mujeres por México y Amazon Web Services (AWS) invitan a su curso “Qué es la Nube de AWS”, donde podrás iniciar tu camino para obtener la certificación <strong>AWS Cloud Practitioner Essentials.</strong></p>

<p>Inscripciones sin costo y de manera virtual.</p>

END:VEVENT
END:VCALENDAR