BEGIN:VCALENDAR
VERSION:2.0
PRODID:Evento - TEC
BEGIN:VEVENT
UID:144441
DTSTAMP:20260421T091724Z
DTSTART:20231025T130000Z
DTEND:20231025T230000Z
SUMMARY:Cumbre Financiera Global 2023
LOCATION:Juan Vazquez de Mella 525, Polanco, CDMX
DESCRIPTION:<p>Únete y sé testigo de las tendencias más destacadas en crecimiento, desarrollo y oportunidades para el <strong>sistema financiero mexicano.</strong></p>

<p>En este <strong>evento de renombre internacional</strong>, destacados académicos y conferencistas de talla mundial compartirán soluciones prácticas para los desafíos que enfrentan nuestras empresas, banca y gobiernos.</p>

<p><a href="https://eventos.tec.mx/s/lt-event?language=es_MX&amp;id=a5u8X000002EsccQAC"><strong>¡Regístrate ahora</strong></a> y asegura tu lugar en la Cumbre Financiera Global 2023!</p>

<p>Evento presencial<br />
<br />
Lugar:&nbsp;<a href="https://www.google.com/maps/place/Hacienda+de+los+Morales/@19.4343448,-99.2092771,15z/data=!4m6!3m5!1s0x85d2021ed8b19fc5:0x1b803634341b80a9!8m2!3d19.4343448!4d-99.2092771!16s%2Fg%2F1tklqx80?entry=ttu">Hacienda de los Morales, CDMX</a>&nbsp;(Juan Vazquez de Mella 525, Polanco, CDMX)</p>

END:VEVENT
END:VCALENDAR