BEGIN:VCALENDAR
VERSION:2.0
PRODID:Evento - TEC
BEGIN:VEVENT
UID:144331
DTSTAMP:20260419T103011Z
DTSTART:20231114T140000Z
DTEND:20231116T230000Z
SUMMARY:inc Family Forum 2023
LOCATION:Cintermex
DESCRIPTION:<p>Te invitamos a <strong>inc Family Forum, </strong>el foro que reúne a las familias empresarias de México y Latinoamérica, donde se discuten tendencias, se llevan a cabo conferencias internacionales y se construyen experiencias y relaciones en el marco del festival de emprendimiento incMTY.<br />
<br />
¡No te pierdas de esta experiencia! Adquiere tus boletos en <a href="http://familyforum.tec.mx/">http://familyforum.tec.mx/</a></p>

END:VEVENT
END:VCALENDAR