BEGIN:VCALENDAR
VERSION:2.0
PRODID:Evento - TEC
BEGIN:VEVENT
UID:144071
DTSTAMP:20260421T091729Z
DTSTART:20231009T170000Z
DTEND:20231009T180000Z
SUMMARY:Conferencia "Design Rules: Activism, idealism, cynicism, and pragmatism in contemporary design" con Paola Antonelli
LOCATION:Centro de Congresos, campus Monterrey.
DESCRIPTION:<p>La serie de conferencias Inspirar Transformar, tendrá lugar su siguiente conferencia&nbsp;con&nbsp;Paola Antonelli “<strong>Design Rules: Activism, idealism, cynicism, and pragmatism in contemporary design</strong>”</p>

<p><strong>Paola Antonelli</strong>, es una reconocida arquitecta en cuyo trabajo se fusiona la arquitectura con la biología, el diseño, el arte, la sostenibilidad, la ciencia y la tecnología mostrando el vínculo cada vez más estrecho que existe entre ellos.</p>

<p>}En su conferencia Antonelli nos llevará a explorar algunas manifestaciones de la vida misma y de la cultura colectiva en el diseño contemporáneo.</p>

<p>Regístrate&nbsp;<a href="https://eventos.tec.mx/s/lt-event?language=es_MX&amp;id=a5u8X000002BfVhQAK">aquí</a>&nbsp;o sigue la transmisión por&nbsp;<a href="https://tec.mx/es/exatec/eventos/live.tec.mx">LIVE.TEC.MX</a></p>

<p>&nbsp;</p>

<p>&nbsp;</p>

END:VEVENT
END:VCALENDAR