BEGIN:VCALENDAR
VERSION:2.0
PRODID:Evento - TEC
BEGIN:VEVENT
UID:143696
DTSTAMP:20260421T204910Z
DTSTART:20230926T160000Z
DTEND:20230926T170000Z
SUMMARY:Inteligencia Artificial, su impacto en la transformación digital 
LOCATION:
DESCRIPTION:<p>¡Aún estás a tiempo de registrarte!&nbsp;</p>

<p>Acompáñanos en este webinar con Carles Abarca, Vicepresidente de Transformación Digital del Tec, y conoce el impacto de la Inteligencia artificial en la transformación digital.<br />
&nbsp;<br />
? Regístrate aquí: bit.ly/45YRNkT&nbsp;<br />
? Martes 26 de septiembre&nbsp;<br />
⏰ 11:00 am &nbsp;</p>

<p>#SpeakNIC #InteligenciaArtificial #IA #TransformaciónDigital</p>

END:VEVENT
END:VCALENDAR