BEGIN:VCALENDAR
VERSION:2.0
PRODID:Evento - TEC
BEGIN:VEVENT
UID:143646
DTSTAMP:20260421T091756Z
DTSTART:20230928T133000Z
DTEND:20230928T230000Z
SUMMARY:Inteligencia Artificial: diseñando el futuro desde el presente
LOCATION:Auditorio Luis Elizondo
DESCRIPTION:<p>Únete a este gran evento, donde conocerás los logros y avances más recientes en el desarrollo de la<strong> Inteligencia Artificial (IA) </strong>en el <strong>Tec de Monterrey</strong>; además, especialistas en el tema compartirán sus conocimientos y experiencias, abriendo espacios de diálogo y reflexión.</p>

<p>Nos llena de orgullo el transformar, inspirar y construir en conjunto un futuro donde la IA sea un pilar fundamental en nuestra<strong> labor educativa y de investigación,</strong> aspirando a convertirnos en líderes indiscutibles en este campo.</p>

<p>¡No te lo pierdas!</p>

<p><br />
Si eres colaborador del Tec, <a href="https://teams.microsoft.com/l/meetup-join/19%3ameeting_ZmVmYWZiNDEtNmFiZC00OTM0LTk5ZDEtMmEyNjVkZmMxMzUw%40thread.v2/0?context=%7B%22Tid%22%3A%22c65a3ea6-0f7c-400b-8934-5a6dc1705645%22%2C%22Oid%22%3A%22ad0fd93f-e25a-473b-b4ab-8d379a7ec78d%22%2C%22IsBroadcastMeeting%22%3Atrue%2C%22role%22%3A%22a%22%7D&amp;btype=a&amp;role=a">conéctate aquí.</a></p>

END:VEVENT
END:VCALENDAR