BEGIN:VCALENDAR
VERSION:2.0
PRODID:Evento - TEC
BEGIN:VEVENT
UID:143641
DTSTAMP:20260419T102956Z
DTSTART:20230925T133000Z
DTEND:20230925T154500Z
SUMMARY:Estudio Nearshoring en EGADE Business School 
LOCATION:EGADE Business School
DESCRIPTION:<p><span><span><span><span><span><a href="https://egade.tec.mx/"><strong>EGADE Business School</strong> </a>del Tecnológico de Monterrey extiende una cordial invitación&nbsp;a la <strong>presentación del estudio "Nearshoring. Retos y oportunidades para la integración y el fortalecimiento de las cadenas globales de valor en México".</strong></span></span></span></span></span></p>

<p><span><span><span><span><span>Los principales <strong>hallazgos y propuestas</strong> del estudio liderado por investigadores del Tec, serán comentados por sus autores, así como por líderes académicos y del sector público y privado. </span></span></span></span></span></p>

<p>&nbsp;</p>

END:VEVENT
END:VCALENDAR