BEGIN:VCALENDAR
VERSION:2.0
PRODID:Evento - TEC
BEGIN:VEVENT
UID:143631
DTSTAMP:20260421T204913Z
DTSTART:20231007T140000Z
DTEND:20231016T020000Z
SUMMARY:Feria Internacional del Libro de Monterrey 2023 
LOCATION:Cintermex
DESCRIPTION:<p>Con una programación de más de&nbsp;<strong>600 eventos</strong>&nbsp;entre homenajes, presentaciones de libros y encuentros con autores nacionales e internacionales es como se prepara la&nbsp;<a href="https://www.feriadellibromonterrey.mx/">Feria Internacional del Libro Monterrey 2023</a>.</p>

<p>Este evento que se realiza año con año, en esta ocasión será enmarcado por el&nbsp;<strong>80 aniversario</strong>&nbsp;del&nbsp;<a href="https://tec.mx/es">Tec de Monterrey</a>.</p>

<p>Para esta&nbsp;<strong>trigésima primera edición</strong>&nbsp;la FIL contará con la presencia de&nbsp;<strong>más de 400 autores</strong>&nbsp;quienes bajo el lema&nbsp;<strong><em>‘Las letras llevan al norte’</em></strong></p>

END:VEVENT
END:VCALENDAR