BEGIN:VCALENDAR
VERSION:2.0
PRODID:Evento - TEC
BEGIN:VEVENT
UID:143271
DTSTAMP:20260419T165920Z
DTSTART:20230909T010000Z
DTEND:20230910T210000Z
SUMMARY:Ópera de Don Giovanni de W.A. Mozart
LOCATION:Auditorio Luis Elizondo
DESCRIPTION:<p>Llega a<strong>l Auditorio Luis Elizondo</strong>, como parte de la nueva temporada de la <strong>Sociedad Artística Tecnológico</strong>, la <strong>ópera Don Giovanni,</strong> con la dirección general de <strong>Stefanos Koroneos</strong>, director artístico del Teatro Grattacielo y dirección musical de <strong>Felipe Tristán,</strong> director asociado de la Orquesta Sinfónica de Brooklyn.</p>

<p>Esta ópera cuenta las<strong> andanzas de Don Giovanni,</strong> un joven licencioso que siempre está en busca de una mujer para seducir. No te pierdas esta reinterpretación contemporánea de un clásico con cantantes y orquesta sinfónica completamente en vivo.</p>

<p><strong>8 de septiembre | 20:oo hrs.</strong></p>

<p><strong>10 de septiembre | 16:00 hrs.</strong></p>

<p>Compra&nbsp;<a href="https://www.ticketmaster.com.mx/opera-don-giovanni-boletos/artist/2999415">aquí</a>&nbsp;tus boletos</p>

END:VEVENT
END:VCALENDAR