BEGIN:VCALENDAR
VERSION:2.0
PRODID:Evento - TEC
BEGIN:VEVENT
UID:143126
DTSTAMP:20260419T223714Z
DTSTART:20230907T010000Z
DTEND:20230907T023000Z
SUMMARY:Festum 2023
LOCATION:Estadio BBVA, Monterrey, Nuevo León
DESCRIPTION:<p><strong>FESTUM </strong>es un espectáculo artístico que celebrará el ochenta aniversario del Tecnológico de Monterrey.</p>

<p>En él, con el objetivo de <strong>exaltar la trascendencia de nuestra institución</strong>, se busca enaltecer los valores e hitos de nuestra historia.</p>

<p>Un magno evento para celebrar nuestras ocho décadas. En este espectáculo reuniremos a toda la comunidad del Tec: estudiantes, colaboradores, profesores, EXATEC, madres y padres de familia, consejeros, socios formadores, aliados estratégicos y comunidad extendida para <strong>celebrar y conmemorar nuestro pasado, presente y futuro</strong> en un espacio lleno de <strong>luces, música, arte y color.</strong></p>

<p>Evento presencial y virtual. Se requiere registro.</p>

<p><strong>Regístrate&nbsp;<a href="https://eventos.tec.mx/s/lt-event?language=es_MX&amp;id=a5u8X000002EmUcQAK">AQUÍ</a>&nbsp;o sigue la transmisión por&nbsp;<a href="https://tec.mx/es/exatec/eventos/live.tec.mx">LIVE.TEC</a></strong></p>

<p><strong>Cupo limitado</strong></p>

END:VEVENT
END:VCALENDAR