BEGIN:VCALENDAR
VERSION:2.0
PRODID:Evento - TEC
BEGIN:VEVENT
UID:143121
DTSTAMP:20260420T005142Z
DTSTART:20230906T160000Z
DTEND:20230906T173000Z
SUMMARY:Ceremonia del 80 Aniversario
LOCATION:Auditorio Luis Elizondo
DESCRIPTION:<p>En esta ceremonia celebraremos, acompañados de nuestra comunidad académica y estudiantil, los&nbsp;<strong>80 años del Tecnológico de Monterrey</strong>.</p>

<p>En un recorrido por nuestras décadas reflexionaremos sobre nuestro pasado y los logros alcanzados, profundizaremos en el presente y daremos frente a la construcción de un mejor futuro para&nbsp;<em><strong>seguir construyendo legados que trascienden.</strong></em></p>

<p><em><strong>Evento presencial y virtual. Se requiere registro</strong></em></p>

<p><a href="https://eventos.tec.mx/s/lt-event?language=es_MX&amp;id=a5u8X000002Eov1QAC">Regístrate aquí</a></p>

<h5>Sigue también la transmisión por&nbsp;<a href="https://tec.mx/es/exatec/eventos/live.tec.mx">LIVE.TEC.MX</a></h5>

END:VEVENT
END:VCALENDAR