BEGIN:VCALENDAR
VERSION:2.0
PRODID:Evento - TEC
BEGIN:VEVENT
UID:142876
DTSTAMP:20260419T223716Z
DTSTART:20230905T170000Z
DTEND:20230905T183000Z
SUMMARY:Ceremonia de entrega Premio Eugenio Garza Sada 2023
LOCATION:Centro de Congresos
DESCRIPTION:<p><span><span><span><span><span><span>A través del</span></span></span>&nbsp;<strong><span><span><span>Premio Eugenio Garza Sada</span></span></span></strong><span><span><span>, FEMSA y el Tecnológico de Monterrey honran a personas y organizaciones que han dejado una profunda huella al promover el bienestar y desarrollo de la sociedad, representando</span></span></span>&nbsp;<strong><span><span><span>los valores y el legado de Eugenio Garza Sada</span></span></span></strong><span><span><span>, destacado impulsor de la transformación de México.</span></span></span></span></span></span></p>

<p><span><span><span><span><span><span>En este año tan especial celebramos el 80 aniversario del Tec y conmemoramos</span></span></span>&nbsp;<strong><span><span><span>30 años de</span></span></span></strong><strong>&nbsp;</strong><strong><span><span><span>de liderazgo y compromiso social</span></span></span></strong><span><span><span>, a través de más de</span></span></span>&nbsp;<span><span><span>70 ganadoras y ganadores que con sus acciones inspiradoras han contribuido con sus legados al progreso del país</span></span></span>&nbsp;<span><span><span>y a conformar la historia de nuestro Premio</span></span></span><span><span><span>.</span></span></span></span></span></span></p>

<p><span><span><span><span><span><span>Forma parte de la celebración y conoce las historias inspiradoras de las y los ganadores de esta edición.</span></span></span>&nbsp;<span><span><span>La cita es el</span></span></span>&nbsp;<strong><span><span><span>martes 5 de septiembre a las 12:00 horas</span></span></span></strong>&nbsp;<span><span><span>(Centro de México)</span></span></span><span><span><span>, en el</span></span></span>&nbsp;<strong><span><span><span>Centro de Congresos del campus Monterrey</span></span></span></strong><span><span><span>.</span></span></span>&nbsp;</span></span></span></p>

<p><span><span><span><span><span><span>En caso de no poder asistir presencialmente, te invitamos a seguir la transmisión en vivo por</span></span></span>&nbsp;<span><span><span><a href="https://nam04.safelinks.protection.outlook.com/?url=https%3A%2F%2Flive.tec.mx%2F&amp;data=05%7C01%7CLONGINO.TORRES%40tec.mx%7C09a10b37d429428fd9d108dba7eb36f3%7Cc65a3ea60f7c400b89345a6dc1705645%7C0%7C0%7C638288400932367559%7CUnknown%7CTWFpbGZsb3d8eyJWIjoiMC4wLjAwMDAiLCJQIjoiV2luMzIiLCJBTiI6Ik1haWwiLCJXVCI6Mn0%3D%7C3000%7C%7C%7C&amp;sdata=iKWWxc4n0UiWz7tUCjUfYbYiePgSvUctEJBNxaXsA9o%3D&amp;reserved=0"><strong><span><span><span>live.tec.mx</span></span></span></strong></a></span></span></span><span><span><span>. </span></span></span></span></span></span></p>

<p>&nbsp;</p>

<p>&nbsp;</p>

END:VEVENT
END:VCALENDAR