BEGIN:VCALENDAR
VERSION:2.0
PRODID:Evento - TEC
BEGIN:VEVENT
UID:142276
DTSTAMP:20260419T223718Z
DTSTART:20230812T230000Z
DTEND:20230813T003000Z
SUMMARY:Conferencia “Líderes en cada atril” con Alondra de la Parra
LOCATION:La Carpa, campus Ciudad de México
DESCRIPTION:<p><strong>Alondra de la Parra</strong>, compartirá su experiencia como directora de orquesta.</p>

<p>Con una gran trayectoria internacional y acompañada por un quinteto de cuerdas, de la Parra abordará el funcionamiento de una orquesta como una maqueta amplificada de cualquier organización humana, con las analogías correspondientes a las áreas de negocios, marketing y recursos humanos.</p>

<p>De la Parra expondrá los diferentes puntos claves a considerar por un líder para cumplir la misión propuesta: tocar una sinfonía.</p>

<p><strong>Fecha:&nbsp;</strong>&nbsp;12 de agosto<br />
<strong>Hora:&nbsp;</strong>18:00 horas<br />
<strong>Lugar:&nbsp;</strong>La Carpa, Campus Ciudad de México<br />
&nbsp;</p>

END:VEVENT
END:VCALENDAR