BEGIN:VCALENDAR
VERSION:2.0
PRODID:Evento - TEC
BEGIN:VEVENT
UID:142271
DTSTAMP:20260421T091719Z
DTSTART:20231006T190000Z
DTEND:20231006T203000Z
SUMMARY:Anthony Atala: Regenerative Medicine, Growing Cells, Tissues and Organ 
LOCATION:Centro de Congresos, campus Guadalajara
DESCRIPTION:<p><strong>Conferencia presencial y virtual</strong></p>

<p>En su charla, el <strong>Dr. Anthony Atala,</strong> pionero en medicina regenerativa, analiza el importante potencial del crecimiento de células, tejidos y órganos, utilizando técnicas biomédicas avanzadas.</p>

<p>Profundiza en las soluciones que estos métodos podrían proporcionar en la medicina regenerativa y explora su impacto potencial en varios tratamientos de enfermedades.</p>

<p>Su discurso ofrece una perspectiva reflexiva y profesional sobre el futuro, en el que las enfermedades y las lesiones ya no sean sinónimo de desesperanza, sino de oportunidad para una recuperación completa y una vida plena.</p>

<p><strong>Fecha:&nbsp;</strong>&nbsp;6 de octubre<br />
<strong>Hora:&nbsp;</strong>14:00 horas (CST)<br />
<strong>Lugar:&nbsp;</strong>Centro de Congresos, campus Guadalajara</p>

END:VEVENT
END:VCALENDAR