BEGIN:VCALENDAR
VERSION:2.0
PRODID:Evento - TEC
BEGIN:VEVENT
UID:142266
DTSTAMP:20260419T223707Z
DTSTART:20230830T223000Z
DTEND:20230831T000000Z
SUMMARY:El futuro del trabajo: Las mujeres en posiciones directivas y globales | Webinar
LOCATION:
DESCRIPTION:<p>La serie trimestral El Futuro del trabajo presenta el panel sobre el liderazgo femenino global en las organizaciones desde la visión de <strong>Nora Rodríguez</strong>, Managing Director Americas en HSBC.</p>

<p>El Futuro del Trabajo es una serie de webinars producida por el Grupo de Investigación en Área Temática en Desarrollo y Cultura Organizacional de la Escuela de Negocios del Tecnológico de Monterrey.</p>

<p>Cada trimestre, presenta una conversación entre profesores de la Escuela y líderes de relaciones organizacionales y recursos humanos en empresas reconocidas.</p>

<p>El webinar será el <strong>30 de agosto, a las 17:30 h (CST)</strong>, con transmisión por<strong> live.tec</strong> y <strong>redes de la Escuela de Negocios.</strong></p>

END:VEVENT
END:VCALENDAR