BEGIN:VCALENDAR
VERSION:2.0
PRODID:Evento - TEC
BEGIN:VEVENT
UID:142171
DTSTAMP:20260419T165919Z
DTSTART:20230727T013000Z
DTEND:20230727T030000Z
SUMMARY:María Pagés: De Scheherezade
LOCATION:Auditorio Luis Elizondo
DESCRIPTION:<h5>De Sheherazade, ganadora de los "Premios Talia de la Academia de las Artes Escénicas de España" al Mejor Espectáculo de Danza</h5>

<h5>&nbsp;</h5>

<h5>Bajo la Dirección de la coreógrafa española y ganadora del Premio Princesa de Asturias,&nbsp;<strong>María Pagés</strong>&nbsp;- referente internacional de la danza flamenca- y El Arbi El Harti, codirector del Centro Coreográfico María Pagés.</h5>

<p>&nbsp;</p>

<p>Compra&nbsp;<a href="https://www.ticketmaster.com.mx/maria-pages-de-scheherezade-boletos/artist/2999352">aquí</a>&nbsp;tus boletos</p>

END:VEVENT
END:VCALENDAR