BEGIN:VCALENDAR
VERSION:2.0
PRODID:Evento - TEC
BEGIN:VEVENT
UID:142126
DTSTAMP:20260419T165920Z
DTSTART:20230718T001713Z
DTEND:20230719T001713Z
SUMMARY:Convocatoria FAIR Fintech Lab 2023
LOCATION:
DESCRIPTION:<p>¿Tienes un <strong>proyecto o emprendimiento fintech </strong>que brindaría soluciones para el acceso de empresas y personas en México a servicios financieros digitales?</p>

<p>¡Detónalo en <strong>FAIR Fintech Lab</strong>, programa de incubación de proyectos fintech con duración de un año!</p>

<p>Algunos beneficios para los proyectos seleccionados en el programa son: Participación en eventos de interacción y 'networking' con líderes y expertos del ecosistema fintech, Conexión con ecosistema emprendedor, ángeles inversores, 'venture capital' y fondos de inversión para levantamiento de capital Acceso a programas de aceleración y desarrollo de negocios.</p>

<p>&nbsp;</p>

<p>&nbsp;</p>

END:VEVENT
END:VCALENDAR