BEGIN:VCALENDAR
VERSION:2.0
PRODID:Evento - TEC
BEGIN:VEVENT
UID:142121
DTSTAMP:20260419T165928Z
DTSTART:20230630T000000Z
DTEND:20240101T020000Z
SUMMARY:Exposición Galería Abierta distritotec: Somos Transiciones
LOCATION:Galería Abierta de distritotec, ubicada en Av. Fernando García Roel, entre Eugenio Garza Sada y Junco de la Vega.

DESCRIPTION:<p>A través de tres ciclos expositivos:&nbsp;<em>SOMOS Transiciones</em>,&nbsp;<em>SOMOS Tránsitos</em>&nbsp;y&nbsp;<em>SOMOS</em>, el nuevo proyecto de arte público en <strong>distritotec</strong>, realizado con el apoyo de Fundación FEMSA, reflexiona sobre la vida como cambio, a través del movimiento y la transformación que vivimos en distintas etapas de nuestro ser</p>

<p>El proyecto es llevado a cabo por Arte y Cultura de <strong>Fundación FEMSA, </strong>a través de Difusión y Fomento Cultural, A.C., en colaboración con <strong>Tec de Monterrey, distritotec</strong>,<strong> Laboratorio Arte A.C. y Alboroto</strong>, junto con la artista<strong> Sara Medina</strong>, la urbanista <strong>Sheila Ferniza</strong> y la curadora <strong>Gemma Argüello.</strong></p>

<p>Los tres ciclos de&nbsp;<em>SOMOS</em>&nbsp;permanecerán el resto del año en la <strong>Galería Abierta de distritotec,</strong> ubicada en Av. Fernando García Roel, entre Eugenio Garza Sada y Junco de la Vega.</p>

<p>La exposición es abierta al público. Entrada gratuita</p>

END:VEVENT
END:VCALENDAR