BEGIN:VCALENDAR
VERSION:2.0
PRODID:Evento - TEC
BEGIN:VEVENT
UID:141731
DTSTAMP:20260419T223706Z
DTSTART:20230705T151500Z
DTEND:20230705T163000Z
SUMMARY:Conferencia “The exciting future of Artificial Intelligence” con Anton Musgrave
LOCATION:
DESCRIPTION:<p><strong>Anton Musgrave</strong>, co-fundador de <strong>Futureworld International</strong>, nos compartirá el umbral de posibilidades que las tecnologías, como la inteligencia artificial, traen al ámbito educativo, empresarial y social, mediante estrategias y procesos que plantean pensar del futuro hacia el presente.</p>

<p><strong>Conferencia virtual. Sigue la transmisión por <a href="https://live.tec.mx/">Live Tec</a></strong></p>

<p><a href="https://eventos.tec.mx/s/lt-event?language=es_MX&amp;id=a5u8X000000bVFqQAM#/Espa%C3%B1ol">Regístrate aquí.</a></p>

END:VEVENT
END:VCALENDAR