BEGIN:VCALENDAR
VERSION:2.0
PRODID:Evento - TEC
BEGIN:VEVENT
UID:141076
DTSTAMP:20260419T223713Z
DTSTART:20230607T160000Z
DTEND:20230607T173000Z
SUMMARY:Conferencia "Reflexiones para un mundo más resiliente" con José Antonio Meade 
LOCATION:Tec Lounge en campus Monterrey
DESCRIPTION:<p>¿Cómo aprendemos a hacer frente a las situaciones adversas? ¿Cuáles son las claves para vivir en un mundo más resiliente?</p>

<p>Te invitamos a la conferencia&nbsp;<em>Reflexiones para un mundo más resiliente</em>&nbsp;a cargo de&nbsp;<strong>José Antonio Meade Kuribreña</strong>, en la cual desentrañaremos aquello que nos ha permitido abrirnos paso en un mundo complejo y cambiante.</p>

<p>Cupo limitado | Evento exclusivo para la comunidad del Tec de Monterrey.</p>

<p><a href="https://docs.google.com/forms/d/e/1FAIpQLScCW0p--Mg3GHoIWNXPCXygF55OZ1X63RPSPdCu5b4BYk5zoQ/viewform?_hsmi=260765744&amp;_hsenc=p2ANqtz--nhMt_Q4G7AZbBZOe4yN0E01O89LITnqqaXZEFQux68MQ0EEar-DsIBpPAaf__TeZGNUN-97GwQUOmrWXFYlGk44SScQ"><strong>Regístrate aquí.</strong></a></p>

END:VEVENT
END:VCALENDAR