BEGIN:VCALENDAR
VERSION:2.0
PRODID:Evento - TEC
BEGIN:VEVENT
UID:141066
DTSTAMP:20260419T223709Z
DTSTART:20230607T223000Z
DTEND:20230608T000000Z
SUMMARY:Conferencia de Stuart Candy | Futures Design Lab
LOCATION:Pabellón La Carreta, campus Monterrey
DESCRIPTION:<p><strong>Stuart Candy</strong>, diseñador, futurista y educador. Director del Situation Lab en Nueva York.</p>

<p>Conferencia magistral: "How to Think About Things That Have Not Happened Yet".</p>

<p>Pabellón La Carreta</p>

<p>Evento híbrido.&nbsp;</p>

<p>Regístrate para el <a href="https://www.incmty.com/thenextdecadeagenda">evento presencial aquí.</a></p>

END:VEVENT
END:VCALENDAR